BEGIN:VCALENDAR
VERSION:2.0
PRODID:-//wp-events-plugin.com//7.2.3.1//EN
TZID:Europe/Berlin
X-WR-TIMEZONE:Europe/Berlin
BEGIN:VEVENT
UID:980@cateedrale.de
DTSTART;TZID=Europe/Berlin:20251203T180000
DTEND;TZID=Europe/Berlin:20251203T200000
DTSTAMP:20251009T091904Z
URL:https://cateedrale.de/startseite/de/cateedrale/veranstaltungen/baulust
 -stammtisch-16/
SUMMARY:Baulust-Stammtisch #16
DESCRIPTION:Eingeladen sind insbesondere diejenigen\, die über das Projekt
  Pontestraße 13 bereits informiert sind und nun gemeinsam mit anderen das
  Projekt starten möchten - mit Unterstützung der BauLust-Berater.\n\nWas
  sind die nächsten Schritte? Was fehlt noch\, um loszustarten?\n\nDazu wo
 llen wir mit dir ins Gespräch kommen.\n\nWir freuen uns\, wenn du kommst!
 \n\nWeitere Informationen &amp\; Kontakt: Baulust Görlitz. Gemeinschaftl
 ich Bauen und Wohnen in der Innenstadt
ATTACH;FMTTYPE=image/jpeg:https://cateedrale.de/wp-content/uploads/2025/10
 /Wimmelbild_hr-53716345.png
CATEGORIES:Stammtisch
LOCATION:CaTeeDrale\, Christoph-Lüders-Straße 47\, Görlitz\, Sachsen\, 0
 2826\, Deutschland
X-APPLE-STRUCTURED-LOCATION;VALUE=URI;X-ADDRESS=Christoph-Lüders-Straße 4
 7\, Görlitz\, Sachsen\, 02826\, Deutschland;X-APPLE-RADIUS=100;X-TITLE=Ca
 TeeDrale:geo:0,0
END:VEVENT
BEGIN:VTIMEZONE
TZID:Europe/Berlin
X-LIC-LOCATION:Europe/Berlin
BEGIN:STANDARD
DTSTART:20251026T020000
TZOFFSETFROM:+0200
TZOFFSETTO:+0100
TZNAME:CET
END:STANDARD
END:VTIMEZONE
END:VCALENDAR