BEGIN:VCALENDAR
VERSION:2.0
PRODID:-//wp-events-plugin.com//7.2.3.1//EN
TZID:Europe/Berlin
X-WR-TIMEZONE:Europe/Berlin
BEGIN:VEVENT
UID:885@cateedrale.de
DTSTART;TZID=Europe/Berlin:20250910T160000
DTEND;TZID=Europe/Berlin:20250910T173000
DTSTAMP:20250718T135200Z
URL:https://cateedrale.de/startseite/de/cateedrale/veranstaltungen/bogensc
 hiessen-2-2025-09-10/
SUMMARY:Bogenschießen
DESCRIPTION:Zielen\, loslassen\, treffen! Komm vorbei zum offenen Bogenschi
 eßen – für Anfänger*innen und Fortgeschrittene\, ohne Anmeldung. Das 
 Angebot wird ehrenamtlich begleitet.
ATTACH;FMTTYPE=image/jpeg:https://cateedrale.de/wp-content/uploads/2025/04
 /Bogenschiessen.jpg
CATEGORIES:Workshop
LOCATION:Jugendhaus CaTeeDrale\, Christoph-Lüders-Str. 47\, Görlitz\, Sac
 hsen\, 02826\, Deutschland
X-APPLE-STRUCTURED-LOCATION;VALUE=URI;X-ADDRESS=Christoph-Lüders-Str. 47\,
  Görlitz\, Sachsen\, 02826\, Deutschland;X-APPLE-RADIUS=100;X-TITLE=Jugen
 dhaus CaTeeDrale:geo:0,0
END:VEVENT
BEGIN:VTIMEZONE
TZID:Europe/Berlin
X-LIC-LOCATION:Europe/Berlin
BEGIN:DAYLIGHT
DTSTART:20250330T030000
TZOFFSETFROM:+0100
TZOFFSETTO:+0200
TZNAME:CEST
END:DAYLIGHT
END:VTIMEZONE
END:VCALENDAR