BEGIN:VCALENDAR
VERSION:2.0
PRODID:-//wp-events-plugin.com//7.2.3.1//EN
TZID:Europe/Berlin
X-WR-TIMEZONE:Europe/Berlin
BEGIN:VEVENT
UID:1068@cateedrale.de
DTSTART;TZID=Europe/Berlin:20260122T153000
DTEND;TZID=Europe/Berlin:20260122T173000
DTSTAMP:20260114T070645Z
URL:https://cateedrale.de/startseite/de/cateedrale/veranstaltungen/boulder
 n-klettern-und-familiencafe-3-2026-01-08-2026-01-15-2026-01-22/
SUMMARY:Bouldern/Klettern und Familiencafé
DESCRIPTION:Klettern\, bouldern\, quatschen – unser offener Treff lädt K
 inder zum Mitmachen ein. Parallel lädt das Familiencafé zum Austausch be
 i Kaffee oder Tee ein. Ohne Anmeldung\, einfach vorbeikommen!
ATTACH;FMTTYPE=image/jpeg:https://cateedrale.de/wp-content/uploads/2025/04
 /Klettern.jpg
CATEGORIES:Offener Treff
LOCATION:CaTeeDrale\, Christoph-Lüders-Straße 47\, Görlitz\, Sachsen\, 0
 2826\, Deutschland
X-APPLE-STRUCTURED-LOCATION;VALUE=URI;X-ADDRESS=Christoph-Lüders-Straße 4
 7\, Görlitz\, Sachsen\, 02826\, Deutschland;X-APPLE-RADIUS=100;X-TITLE=Ca
 TeeDrale:geo:0,0
END:VEVENT
BEGIN:VTIMEZONE
TZID:Europe/Berlin
X-LIC-LOCATION:Europe/Berlin
BEGIN:STANDARD
DTSTART:20251026T020000
TZOFFSETFROM:+0200
TZOFFSETTO:+0100
TZNAME:CET
END:STANDARD
END:VTIMEZONE
END:VCALENDAR