BEGIN:VCALENDAR
VERSION:2.0
PRODID:-//wp-events-plugin.com//7.2.3.1//EN
TZID:Europe/Berlin
X-WR-TIMEZONE:Europe/Berlin
BEGIN:VEVENT
UID:338@cateedrale.de
DTSTART;TZID=Europe/Berlin:20241003T150000
DTEND;TZID=Europe/Berlin:20241003T180000
DTSTAMP:20240604T132503Z
URL:https://cateedrale.de/startseite/de/cateedrale/veranstaltungen/familli
 enklettern-famillien-cafe-2024-10-03/
SUMMARY:Famillienklettern & Famillien-Café
DESCRIPTION:Jeden Donnerstag haben Kinder\, Jugendliche und Eltern die Mög
 lichkeit sich in unserem Jugendhaus voll auszuleben.\n\nIm Erdgeschoß kö
 nnen Kinder sowie Eltern sich in unserem Kletterschacht versuchen oder sie
  unterhalten sich bei einem Stück Kuchen in unserem Café.\nIm Obergescho
 ss gibt es eine Boulderwand an der sich Kinder &amp\; Jugendliche an den v
 erschiedenen Routen austoben können.
LOCATION:CaTeeDrale\, Christoph-Lüders-Straße 47\, Görlitz\, Sachsen\, 0
 2826\, Deutschland
X-APPLE-STRUCTURED-LOCATION;VALUE=URI;X-ADDRESS=Christoph-Lüders-Straße 4
 7\, Görlitz\, Sachsen\, 02826\, Deutschland;X-APPLE-RADIUS=100;X-TITLE=Ca
 TeeDrale:geo:0,0
END:VEVENT
BEGIN:VTIMEZONE
TZID:Europe/Berlin
X-LIC-LOCATION:Europe/Berlin
BEGIN:DAYLIGHT
DTSTART:20240331T030000
TZOFFSETFROM:+0100
TZOFFSETTO:+0200
TZNAME:CEST
END:DAYLIGHT
END:VTIMEZONE
END:VCALENDAR