BEGIN:VCALENDAR
VERSION:2.0
PRODID:-//wp-events-plugin.com//7.2.3.1//EN
TZID:Europe/Berlin
X-WR-TIMEZONE:Europe/Berlin
BEGIN:VEVENT
UID:1131@cateedrale.de
DTSTART;TZID=Europe/Berlin:20260310T163000
DTEND;TZID=Europe/Berlin:20260310T173000
DTSTAMP:20260114T070913Z
URL:https://cateedrale.de/startseite/de/cateedrale/veranstaltungen/gemeins
 am-durch-den-papierkram-2026-01-13-2026-01-27-2026-02-10-2026-02-24-2026-0
 3-10/
SUMMARY:Gemeinsam durch den Papierkram
DESCRIPTION:Diese Kurzberatung hilft ruhig\, verständlich und vertraulich 
 beim Verstehen von Briefen sowie beim Ausfüllen von Anträgen. Start ist 
 am Dienstag\, 21.10.2025\, anschließend alle zwei Wochen dienstags\, 16:3
 0 – 17:30 Uhr\, als Einzelberatung nacheinander. Daher bitte vorher anme
 lden und relevante Unterlagen (z. B. Briefe/Bescheide) mitbringen.\n\nWeit
 ere Informationen\, Rückfragen &amp\; Anmeldung:\nQuartiersmanagement Inn
 enstadt West\nTel.: 01522 6220946\nE-Mail: s.hoebler@goerlitz.de
ATTACH;FMTTYPE=image/jpeg:https://cateedrale.de/wp-content/uploads/2025/10
 /Gemeinsam-durch-den-Papierkram.jpg
CATEGORIES:Beratung
LOCATION:CaTeeDrale\, Christoph-Lüders-Straße 47\, Görlitz\, Sachsen\, 0
 2826\, Deutschland
X-APPLE-STRUCTURED-LOCATION;VALUE=URI;X-ADDRESS=Christoph-Lüders-Straße 4
 7\, Görlitz\, Sachsen\, 02826\, Deutschland;X-APPLE-RADIUS=100;X-TITLE=Ca
 TeeDrale:geo:0,0
END:VEVENT
BEGIN:VTIMEZONE
TZID:Europe/Berlin
X-LIC-LOCATION:Europe/Berlin
BEGIN:STANDARD
DTSTART:20251026T020000
TZOFFSETFROM:+0200
TZOFFSETTO:+0100
TZNAME:CET
END:STANDARD
END:VTIMEZONE
END:VCALENDAR