BEGIN:VCALENDAR
VERSION:2.0
PRODID:-//wp-events-plugin.com//7.2.3.1//EN
TZID:Europe/Berlin
X-WR-TIMEZONE:Europe/Berlin
BEGIN:VEVENT
UID:88@cateedrale.de
DTSTART;TZID=Europe/Berlin:20241127T150000
DTEND;TZID=Europe/Berlin:20241127T170000
DTSTAMP:20240611T091934Z
URL:https://cateedrale.de/startseite/de/cateedrale/veranstaltungen/gemeins
 ame-gartenarbeit-2024-11-27/
SUMMARY:Gemeinsame Gartenarbeit
DESCRIPTION:\n\nVon Frühling bis Herbst treffen wir uns jeden Mittwoch in 
 unserem Garten und pflegen diesen.\nDabei erlernen Kinder und Jugendliche 
 Grundkenntnisse der Gartenarbeit und kommen auch mit Älteren ins Gespräc
 h.\nNach getaner Arbeit gibt es manchmal auch was zu naschen.
LOCATION:Garten der CaTeeDrale\, Bautzener Straße 56\, Görlitz\, Sachsen\
 , 02826\, Deutschland
X-APPLE-STRUCTURED-LOCATION;VALUE=URI;X-ADDRESS=Bautzener Straße 56\, Gör
 litz\, Sachsen\, 02826\, Deutschland;X-APPLE-RADIUS=100;X-TITLE=Garten der
  CaTeeDrale:geo:0,0
END:VEVENT
BEGIN:VTIMEZONE
TZID:Europe/Berlin
X-LIC-LOCATION:Europe/Berlin
BEGIN:STANDARD
DTSTART:20241027T020000
TZOFFSETFROM:+0200
TZOFFSETTO:+0100
TZNAME:CET
END:STANDARD
END:VTIMEZONE
END:VCALENDAR