BEGIN:VCALENDAR
VERSION:2.0
PRODID:-//wp-events-plugin.com//7.2.3.1//EN
TZID:Europe/Berlin
X-WR-TIMEZONE:Europe/Berlin
BEGIN:VEVENT
UID:30@cateedrale.de
DTSTART;TZID=Europe/Berlin:20241209T150000
DTEND;TZID=Europe/Berlin:20241209T180000
DTSTAMP:20240604T130005Z
URL:https://cateedrale.de/startseite/de/cateedrale/veranstaltungen/gemeins
 ames-kochen-fuer-kinder-und-jugendliche-2024-12-09/
SUMMARY:Gemeinsames Kochen für Kinder und Jugendliche
DESCRIPTION:Jeden Montag kochen wir gemeinsam mit Kindern und Jugendlichen 
 ein Gericht ihrer Wahl.\n\nDabei erlernen sie nicht nur grundlegende Kochk
 enntnisse\, sondern auch wie man in einer Gruppe zusammenarbeitet.
LOCATION:CaTeeDrale\, Christoph-Lüders-Straße 47\, Görlitz\, Sachsen\, 0
 2826\, Deutschland
X-APPLE-STRUCTURED-LOCATION;VALUE=URI;X-ADDRESS=Christoph-Lüders-Straße 4
 7\, Görlitz\, Sachsen\, 02826\, Deutschland;X-APPLE-RADIUS=100;X-TITLE=Ca
 TeeDrale:geo:0,0
END:VEVENT
BEGIN:VTIMEZONE
TZID:Europe/Berlin
X-LIC-LOCATION:Europe/Berlin
BEGIN:STANDARD
DTSTART:20241027T020000
TZOFFSETFROM:+0200
TZOFFSETTO:+0100
TZNAME:CET
END:STANDARD
END:VTIMEZONE
END:VCALENDAR