BEGIN:VCALENDAR
VERSION:2.0
PRODID:-//wp-events-plugin.com//7.2.3.1//EN
TZID:Europe/Berlin
X-WR-TIMEZONE:Europe/Berlin
BEGIN:VEVENT
UID:704@cateedrale.de
DTSTART;TZID=Europe/Berlin:20250612T153000
DTEND;TZID=Europe/Berlin:20250612T173000
DTSTAMP:20250627T103448Z
URL:https://cateedrale.de/startseite/de/cateedrale/veranstaltungen/kletter
 n-familien-cafe-2025-06-12/
SUMMARY:Klettern & Familien-Café
DESCRIPTION:
ATTACH;FMTTYPE=image/jpeg:https://cateedrale.de/wp-content/uploads/2025/04
 /Klettern.jpg
CATEGORIES:Offener Treff
LOCATION:CaTeeDrale\, Christoph-Lüders-Straße 47\, Görlitz\, Sachsen\, 0
 2826\, Deutschland
X-APPLE-STRUCTURED-LOCATION;VALUE=URI;X-ADDRESS=Christoph-Lüders-Straße 4
 7\, Görlitz\, Sachsen\, 02826\, Deutschland;X-APPLE-RADIUS=100;X-TITLE=Ca
 TeeDrale:geo:0,0
END:VEVENT
BEGIN:VTIMEZONE
TZID:Europe/Berlin
X-LIC-LOCATION:Europe/Berlin
BEGIN:DAYLIGHT
DTSTART:20250330T030000
TZOFFSETFROM:+0100
TZOFFSETTO:+0200
TZNAME:CEST
END:DAYLIGHT
END:VTIMEZONE
END:VCALENDAR