BEGIN:VCALENDAR
VERSION:2.0
PRODID:-//wp-events-plugin.com//7.2.3.1//EN
TZID:Europe/Berlin
X-WR-TIMEZONE:Europe/Berlin
BEGIN:VEVENT
UID:475@cateedrale.de
DTSTART;TZID=Europe/Berlin;VALUE=DATE:20240708
DTEND;TZID=Europe/Berlin;VALUE=DATE:20240712
DTSTAMP:20240619T122740Z
URL:https://cateedrale.de/startseite/de/cateedrale/veranstaltungen/koenigs
 hainer-klettertage/
SUMMARY:Königshainer Klettertage
DESCRIPTION:Betreutes Klettern in der Oberlausitz für Kinder und Jugendlic
 he zwischen 8 und 16 Jahren.
LOCATION:CaTeeDrale\, Christoph-Lüders-Straße 47\, Görlitz\, Sachsen\, 0
 2826\, Deutschland
X-APPLE-STRUCTURED-LOCATION;VALUE=URI;X-ADDRESS=Christoph-Lüders-Straße 4
 7\, Görlitz\, Sachsen\, 02826\, Deutschland;X-APPLE-RADIUS=100;X-TITLE=Ca
 TeeDrale:geo:0,0
END:VEVENT
BEGIN:VTIMEZONE
TZID:Europe/Berlin
X-LIC-LOCATION:Europe/Berlin
BEGIN:DAYLIGHT
DTSTART:20240331T030000
TZOFFSETFROM:+0100
TZOFFSETTO:+0200
TZNAME:CEST
END:DAYLIGHT
END:VTIMEZONE
END:VCALENDAR