BEGIN:VCALENDAR
VERSION:2.0
PRODID:-//wp-events-plugin.com//7.2.3.1//EN
TZID:Europe/Berlin
X-WR-TIMEZONE:Europe/Berlin
BEGIN:VEVENT
UID:1164@cateedrale.de
DTSTART;TZID=Europe/Berlin:20260331T150000
DTEND;TZID=Europe/Berlin:20260331T160000
DTSTAMP:20260114T070947Z
URL:https://cateedrale.de/startseite/de/cateedrale/veranstaltungen/offenes
 -malen-fuer-kinder-2026-01-06-2026-01-13-2026-01-20-2026-01-27-2026-02-03-
 2026-02-10-2026-02-17-2026-02-24-2026-03-03-2026-03-10-2026-03-17-2026-03-
 24-2026-03-31/
SUMMARY:Offenes Malen für Kinder
DESCRIPTION:Lust auf Farbe und Kreativität? Beim offenen Malen können Kin
 der malen\, zeichnen und basteln – ganz ohne Druck\, einfach aus Spaß a
 m Gestalten. Ohne Anmeldung\, komm einfach vorbei!
ATTACH;FMTTYPE=image/jpeg:https://cateedrale.de/wp-content/uploads/2025/04
 /Malen-fuer-Kinder.jpg
CATEGORIES:Workshop
LOCATION:Jugendhaus CaTeeDrale\, Christoph-Lüders-Str. 47\, Görlitz\, Sac
 hsen\, 02826\, Deutschland
X-APPLE-STRUCTURED-LOCATION;VALUE=URI;X-ADDRESS=Christoph-Lüders-Str. 47\,
  Görlitz\, Sachsen\, 02826\, Deutschland;X-APPLE-RADIUS=100;X-TITLE=Jugen
 dhaus CaTeeDrale:geo:0,0
END:VEVENT
BEGIN:VTIMEZONE
TZID:Europe/Berlin
X-LIC-LOCATION:Europe/Berlin
BEGIN:DAYLIGHT
DTSTART:20260329T030000
TZOFFSETFROM:+0100
TZOFFSETTO:+0200
TZNAME:CEST
END:DAYLIGHT
END:VTIMEZONE
END:VCALENDAR