BEGIN:VCALENDAR
VERSION:2.0
PRODID:-//wp-events-plugin.com//7.2.3.1//EN
TZID:Europe/Berlin
X-WR-TIMEZONE:Europe/Berlin
BEGIN:VEVENT
UID:824@cateedrale.de
DTSTART;TZID=Europe/Berlin:20250919T140000
DTEND;TZID=Europe/Berlin:20250919T170000
DTSTAMP:20251212T150651Z
URL:https://cateedrale.de/startseite/de/cateedrale/veranstaltungen/offenes
 -quartierscafe-3-2025-09-19/
SUMMARY:Offenes Quartierscafé
DESCRIPTION:Das Quartierscafé ist offen für alle Bewohnerinnen und Bewohn
 er der Innenstadt West. Kommen Sie vorbei – zum Reden\, Zuhören\, Frage
 n stellen\, Ideen teilen oder einfach auf einen Kaffee oder Tee. Vor Ort g
 ibt es auch einen Laptop mit Internetzugang und einen Drucker\, die sie ko
 stenlos nutzen können – z.B. für Bewerbungen\, Briefe oder Recherchen.
ATTACH;FMTTYPE=image/jpeg:https://cateedrale.de/wp-content/uploads/2025/06
 /Quartierscafe.jpg
CATEGORIES:Quartiersmanagement
LOCATION:CaTeeDrale\, Christoph-Lüders-Straße 47\, Görlitz\, Sachsen\, 0
 2826\, Deutschland
X-APPLE-STRUCTURED-LOCATION;VALUE=URI;X-ADDRESS=Christoph-Lüders-Straße 4
 7\, Görlitz\, Sachsen\, 02826\, Deutschland;X-APPLE-RADIUS=100;X-TITLE=Ca
 TeeDrale:geo:0,0
END:VEVENT
BEGIN:VTIMEZONE
TZID:Europe/Berlin
X-LIC-LOCATION:Europe/Berlin
BEGIN:DAYLIGHT
DTSTART:20250330T030000
TZOFFSETFROM:+0100
TZOFFSETTO:+0200
TZNAME:CEST
END:DAYLIGHT
END:VTIMEZONE
END:VCALENDAR