BEGIN:VCALENDAR
VERSION:2.0
PRODID:-//wp-events-plugin.com//7.2.3.1//EN
TZID:Europe/Berlin
X-WR-TIMEZONE:Europe/Berlin
BEGIN:VEVENT
UID:1165@cateedrale.de
DTSTART;TZID=Europe/Berlin:20260106T090000
DTEND;TZID=Europe/Berlin:20260106T120000
DTSTAMP:20260114T071037Z
URL:https://cateedrale.de/startseite/de/cateedrale/veranstaltungen/offenes
 -quartierscafe-4-2026-01-06/
SUMMARY:Offenes Quartierscafé
DESCRIPTION:Das Quartierscafé ist offen für alle Bewohnerinnen und Bewohn
 er der Innenstadt West. Kommen Sie vorbei – zum Reden\, Zuhören\, Frage
 n stellen\, Ideen teilen oder einfach auf einen Kaffee oder Tee. Vor Ort g
 ibt es auch einen Laptop mit Internetzugang und einen Drucker\, die sie ko
 stenlos nutzen können – z.B. für Bewerbungen\, Briefe oder Recherchen.
ATTACH;FMTTYPE=image/jpeg:https://cateedrale.de/wp-content/uploads/2025/06
 /Quartierscafe.jpg
CATEGORIES:Quartiersmanagement
LOCATION:CaTeeDrale\, Christoph-Lüders-Straße 47\, Görlitz\, Sachsen\, 0
 2826\, Deutschland
X-APPLE-STRUCTURED-LOCATION;VALUE=URI;X-ADDRESS=Christoph-Lüders-Straße 4
 7\, Görlitz\, Sachsen\, 02826\, Deutschland;X-APPLE-RADIUS=100;X-TITLE=Ca
 TeeDrale:geo:0,0
END:VEVENT
BEGIN:VTIMEZONE
TZID:Europe/Berlin
X-LIC-LOCATION:Europe/Berlin
BEGIN:STANDARD
DTSTART:20251026T020000
TZOFFSETFROM:+0200
TZOFFSETTO:+0100
TZNAME:CET
END:STANDARD
END:VTIMEZONE
END:VCALENDAR