BEGIN:VCALENDAR
VERSION:2.0
PRODID:-//wp-events-plugin.com//7.2.3.1//EN
TZID:Europe/Berlin
X-WR-TIMEZONE:Europe/Berlin
BEGIN:VEVENT
UID:50@cateedrale.de
DTSTART;TZID=Europe/Berlin:20241001T153000
DTEND;TZID=Europe/Berlin:20241001T163000
DTSTAMP:20240918T131617Z
URL:https://cateedrale.de/startseite/de/cateedrale/veranstaltungen/paedago
 gisch-begleiteter-zeichenkurs-2024-10-01/
SUMMARY:pädagogisch begleiteter Zeichenkurs
DESCRIPTION:Unter Anleitung einer kreativen Fachkraft könnt ihr euch küns
 tlerisch verwirklichen.\nJede Woche gibt es ein neues Thema\, was auf die 
 verschiedenste Weise gestalterisch\, teils ausgefallen\, umgesetzt wird. S
 eit gespannt\, was sich unsere liebe Natalia wieder einfallen lässt.
LOCATION:CaTeeDrale\, Christoph-Lüders-Straße 47\, Görlitz\, Sachsen\, 0
 2826\, Deutschland
X-APPLE-STRUCTURED-LOCATION;VALUE=URI;X-ADDRESS=Christoph-Lüders-Straße 4
 7\, Görlitz\, Sachsen\, 02826\, Deutschland;X-APPLE-RADIUS=100;X-TITLE=Ca
 TeeDrale:geo:0,0
END:VEVENT
BEGIN:VTIMEZONE
TZID:Europe/Berlin
X-LIC-LOCATION:Europe/Berlin
BEGIN:DAYLIGHT
DTSTART:20240331T030000
TZOFFSETFROM:+0100
TZOFFSETTO:+0200
TZNAME:CEST
END:DAYLIGHT
END:VTIMEZONE
END:VCALENDAR