BEGIN:VCALENDAR
VERSION:2.0
PRODID:-//wp-events-plugin.com//7.2.3.1//EN
TZID:Europe/Berlin
X-WR-TIMEZONE:Europe/Berlin
BEGIN:VEVENT
UID:55@cateedrale.de
DTSTART;TZID=Europe/Berlin:20241105T160000
DTEND;TZID=Europe/Berlin:20241105T170000
DTSTAMP:20240604T125933Z
URL:https://cateedrale.de/startseite/de/cateedrale/veranstaltungen/paedago
 gisch-begleiteter-zeichenkurs-2024-11-05/
SUMMARY:pädagogisch begleiteter Zeichenkurs
DESCRIPTION:Unter Anleitung einer kreativen Fachkraft könnt ihr euch küns
 tlerisch verwirklichen.\nJede Woche gibt es ein neues Thema\, was auf die 
 verschiedenste Weise gestalterisch\, teils ausgefallen\, umgesetzt wird. S
 eit gespannt\, was sich unsere liebe Natalia wieder einfallen lässt.
LOCATION:CaTeeDrale\, Christoph-Lüders-Straße 47\, Görlitz\, Sachsen\, 0
 2826\, Deutschland
X-APPLE-STRUCTURED-LOCATION;VALUE=URI;X-ADDRESS=Christoph-Lüders-Straße 4
 7\, Görlitz\, Sachsen\, 02826\, Deutschland;X-APPLE-RADIUS=100;X-TITLE=Ca
 TeeDrale:geo:0,0
END:VEVENT
BEGIN:VTIMEZONE
TZID:Europe/Berlin
X-LIC-LOCATION:Europe/Berlin
BEGIN:STANDARD
DTSTART:20241027T020000
TZOFFSETFROM:+0200
TZOFFSETTO:+0100
TZNAME:CET
END:STANDARD
END:VTIMEZONE
END:VCALENDAR